BEGIN:VCALENDAR
VERSION:2.0
PRODID:-//Cincinnati Dental Society - ECPv6.15.20//NONSGML v1.0//EN
CALSCALE:GREGORIAN
METHOD:PUBLISH
X-ORIGINAL-URL:https://cincinnatidental.org
X-WR-CALDESC:Events for Cincinnati Dental Society
REFRESH-INTERVAL;VALUE=DURATION:PT1H
X-Robots-Tag:noindex
X-PUBLISHED-TTL:PT1H
BEGIN:VTIMEZONE
TZID:America/Detroit
BEGIN:DAYLIGHT
TZOFFSETFROM:-0500
TZOFFSETTO:-0400
TZNAME:EDT
DTSTART:20250309T070000
END:DAYLIGHT
BEGIN:STANDARD
TZOFFSETFROM:-0400
TZOFFSETTO:-0500
TZNAME:EST
DTSTART:20251102T060000
END:STANDARD
BEGIN:DAYLIGHT
TZOFFSETFROM:-0500
TZOFFSETTO:-0400
TZNAME:EDT
DTSTART:20260308T070000
END:DAYLIGHT
BEGIN:STANDARD
TZOFFSETFROM:-0400
TZOFFSETTO:-0500
TZNAME:EST
DTSTART:20261101T060000
END:STANDARD
BEGIN:DAYLIGHT
TZOFFSETFROM:-0500
TZOFFSETTO:-0400
TZNAME:EDT
DTSTART:20270314T070000
END:DAYLIGHT
BEGIN:STANDARD
TZOFFSETFROM:-0400
TZOFFSETTO:-0500
TZNAME:EST
DTSTART:20271107T060000
END:STANDARD
END:VTIMEZONE
BEGIN:VEVENT
DTSTART;TZID=America/Detroit:20260209T180000
DTEND;TZID=America/Detroit:20260209T203000
DTSTAMP:20260422T182400
CREATED:20260119T211901Z
LAST-MODIFIED:20260130T171159Z
UID:9855-1770660000-1770669000@cincinnatidental.org
SUMMARY:GLP-1 Agonists - The Ozempic Craze
DESCRIPTION:Download offline registration\n					\n					\n				\n								\n				\n					\n		\n				\n			\n						\n				\n									\n					\n						\n									Register Online\n					\n					\n				\n								\n				\n					\n		\n					\n		\n				\n						\n					\n			\n						\n				\n									Note: In order to download the offline registration form\, you will need to download and install Adobe Acrobat Reader.   								\n				\n				\n				\n					Registration for this event is closed. Thank you!				\n				\n				\n				\n									Description:Staying on top of the many and varied laws and rules that impact regulatory compliance can be confusing and time consuming\, especially when most dental offices are limited in the amount resources that can be directed towards compliance activities. This seminar will provide attendees with practical information and guidance to help them meet their regulatory obligations in a cost-effective manner. Learning Objectives:Understand current regulatory issues impacting Ohio dental practices.Learn action steps to practically address regulatory compliance issues.Meet the annual training requirement of the OSHA Bloodborne Pathogens Standard.Speaker:Christopher A. Moore\, ODA Director of Dental Services. Chris Moore currently serves as director of dental services for the Ohio Dental Association. He is in his 36th year of service to the ODA and currently administers the association’s third-party payer\, peer review\, dental practice and regulatory compliance programs. Chris is an Honorary Fellow of the International College of Dentists USA Section for his contributions to the promotion of the dental profession. He received a Bachelor of Arts degree from Case Western Reserve University and a Master of Arts degree from Kent State University. Schedule:7:30 am: Registration & Continental Breakfast 8:00 am: Program FEES: $65/Person for CDS Member and their Staff * * $95 for ADA Member$120 for Non-Member CE: 2.0 Credits 								\n				\n				\n				\n							\n			\n						\n		\n						\n				\n				\n				\n									The Cincinnati Dental Society is an ADA CERP Recognized Provider approved by the ODA.
URL:https://cincinnatidental.org/event/glp-1-agonists-the-ozempic-craze/
LOCATION:Cooper Creek Event Center\, 4040 Cooper Rd\, Blue Ash\, 45241\, United States
CATEGORIES:CDS Member Events / Programs
ATTACH;FMTTYPE=image/jpeg:https://cincinnatidental.org/wp-content/uploads/2021/08/featured-events.jpg
ORGANIZER;CN="Cincinnati Dental Society":MAILTO:vicki@cincinnatidental.org
END:VEVENT
BEGIN:VEVENT
DTSTART;TZID=America/Detroit:20260309T181500
DTEND;TZID=America/Detroit:20260309T203000
DTSTAMP:20260422T182400
CREATED:20260210T030710Z
LAST-MODIFIED:20260210T031846Z
UID:10134-1773080100-1773088200@cincinnatidental.org
SUMMARY:University of Cincinnati Medical Center's AEGD 2025-2026 Resident’s Table Clinics
DESCRIPTION:Download offline registration\n					\n					\n				\n								\n				\n					\n		\n				\n			\n						\n				\n									\n					\n						\n									Register Online\n					\n					\n				\n								\n				\n					\n		\n					\n		\n				\n						\n					\n			\n						\n				\n									Note: In order to download the offline registration form\, you will need to download and install Adobe Acrobat Reader.   								\n				\n				\n				\n					Registration for this event is closed. Thank you!				\n				\n				\n				\n									Description:Staying on top of the many and varied laws and rules that impact regulatory compliance can be confusing and time consuming\, especially when most dental offices are limited in the amount resources that can be directed towards compliance activities. This seminar will provide attendees with practical information and guidance to help them meet their regulatory obligations in a cost-effective manner. Learning Objectives:Understand current regulatory issues impacting Ohio dental practices.Learn action steps to practically address regulatory compliance issues.Meet the annual training requirement of the OSHA Bloodborne Pathogens Standard.Speaker:Christopher A. Moore\, ODA Director of Dental Services. Chris Moore currently serves as director of dental services for the Ohio Dental Association. He is in his 36th year of service to the ODA and currently administers the association’s third-party payer\, peer review\, dental practice and regulatory compliance programs. Chris is an Honorary Fellow of the International College of Dentists USA Section for his contributions to the promotion of the dental profession. He received a Bachelor of Arts degree from Case Western Reserve University and a Master of Arts degree from Kent State University. Schedule:7:30 am: Registration & Continental Breakfast 8:00 am: Program FEES: $65/Person for CDS Member and their Staff * * $95 for ADA Member$120 for Non-Member CE: 2.0 Credits 								\n				\n				\n				\n							\n			\n						\n		\n						\n				\n				\n				\n									The Cincinnati Dental Society is an ADA CERP Recognized Provider approved by the ODA.
URL:https://cincinnatidental.org/event/march-2026-table-clinics/
LOCATION:Fueled Collective\, 3825 Edwards Rd.\, Suite 103\, Cincinnati\, OH\, 45209\, United States
CATEGORIES:CDS Member Events / Programs
ATTACH;FMTTYPE=image/jpeg:https://cincinnatidental.org/wp-content/uploads/2021/08/featured-events.jpg
ORGANIZER;CN="Cincinnati Dental Society":MAILTO:vicki@cincinnatidental.org
END:VEVENT
BEGIN:VEVENT
DTSTART;TZID=America/Detroit:20260502T083000
DTEND;TZID=America/Detroit:20260502T103000
DTSTAMP:20260422T182400
CREATED:20260119T210234Z
LAST-MODIFIED:20260119T211138Z
UID:9835-1777710600-1777717800@cincinnatidental.org
SUMMARY:2026 Shred Event
DESCRIPTION:Download offline registration\n					\n					\n				\n								\n				\n					\n		\n				\n			\n						\n				\n									\n					\n						\n									Register Online\n					\n					\n				\n								\n				\n					\n		\n					\n		\n				\n						\n					\n			\n						\n				\n									Note: In order to download the offline registration form\, you will need to download and install Adobe Acrobat Reader.   								\n				\n				\n				\n					Registration for this event is closed. Thank you!				\n				\n				\n				\n									Description:Staying on top of the many and varied laws and rules that impact regulatory compliance can be confusing and time consuming\, especially when most dental offices are limited in the amount resources that can be directed towards compliance activities. This seminar will provide attendees with practical information and guidance to help them meet their regulatory obligations in a cost-effective manner. Learning Objectives:Understand current regulatory issues impacting Ohio dental practices.Learn action steps to practically address regulatory compliance issues.Meet the annual training requirement of the OSHA Bloodborne Pathogens Standard.Speaker:Christopher A. Moore\, ODA Director of Dental Services. Chris Moore currently serves as director of dental services for the Ohio Dental Association. He is in his 36th year of service to the ODA and currently administers the association’s third-party payer\, peer review\, dental practice and regulatory compliance programs. Chris is an Honorary Fellow of the International College of Dentists USA Section for his contributions to the promotion of the dental profession. He received a Bachelor of Arts degree from Case Western Reserve University and a Master of Arts degree from Kent State University. Schedule:7:30 am: Registration & Continental Breakfast 8:00 am: Program FEES: $65/Person for CDS Member and their Staff * * $95 for ADA Member$120 for Non-Member CE: 2.0 Credits 								\n				\n				\n				\n							\n			\n						\n		\n						\n				\n				\n				\n									The Cincinnati Dental Society is an ADA CERP Recognized Provider approved by the ODA.
URL:https://cincinnatidental.org/event/2026-shred-event/
LOCATION:CDS Executive Office\, 9200 Montgomery Rd #21A\, Cincinnati\, 45242
CATEGORIES:CDS Member Events / Programs
ATTACH;FMTTYPE=image/jpeg:https://cincinnatidental.org/wp-content/uploads/2023/04/shred-event.jpg
ORGANIZER;CN="Cincinnati Dental Society":MAILTO:vicki@cincinnatidental.org
END:VEVENT
BEGIN:VEVENT
DTSTART;TZID=America/Detroit:20261030T074500
DTEND;TZID=America/Detroit:20261030T103000
DTSTAMP:20260422T182400
CREATED:20260219T001859Z
LAST-MODIFIED:20260219T204325Z
UID:10178-1793346300-1793356200@cincinnatidental.org
SUMMARY:LIVE OSHA and Infection Control CE Program
DESCRIPTION:Download offline registration\n					\n					\n				\n								\n				\n					\n		\n				\n			\n						\n				\n									\n					\n						\n									Register Online\n					\n					\n				\n								\n				\n					\n		\n					\n		\n				\n						\n					\n			\n						\n				\n									Note: In order to download the offline registration form\, you will need to download and install Adobe Acrobat Reader.   								\n				\n				\n				\n					Registration for this event is closed. Thank you!				\n				\n				\n				\n									Description:Staying on top of the many and varied laws and rules that impact regulatory compliance can be confusing and time consuming\, especially when most dental offices are limited in the amount resources that can be directed towards compliance activities. This seminar will provide attendees with practical information and guidance to help them meet their regulatory obligations in a cost-effective manner. Learning Objectives:Understand current regulatory issues impacting Ohio dental practices.Learn action steps to practically address regulatory compliance issues.Meet the annual training requirement of the OSHA Bloodborne Pathogens Standard.Speaker:Christopher A. Moore\, ODA Director of Dental Services. Chris Moore currently serves as director of dental services for the Ohio Dental Association. He is in his 36th year of service to the ODA and currently administers the association’s third-party payer\, peer review\, dental practice and regulatory compliance programs. Chris is an Honorary Fellow of the International College of Dentists USA Section for his contributions to the promotion of the dental profession. He received a Bachelor of Arts degree from Case Western Reserve University and a Master of Arts degree from Kent State University. Schedule:7:30 am: Registration & Continental Breakfast 8:00 am: Program FEES: $65/Person for CDS Member and their Staff * * $95 for ADA Member$120 for Non-Member CE: 2.0 Credits 								\n				\n				\n				\n							\n			\n						\n		\n						\n				\n				\n				\n									The Cincinnati Dental Society is an ADA CERP Recognized Provider approved by the ODA.
URL:https://cincinnatidental.org/event/live-osha-and-infection-control-ce-program/
LOCATION:Cooper Creek Event Center\, 4040 Cooper Rd\, Blue Ash\, 45241\, United States
CATEGORIES:CDS Member Events / Programs
ATTACH;FMTTYPE=image/jpeg:https://cincinnatidental.org/wp-content/uploads/2021/08/featured-events.jpg
ORGANIZER;CN="Cincinnati Dental Society":MAILTO:vicki@cincinnatidental.org
END:VEVENT
END:VCALENDAR