BEGIN:VCALENDAR
VERSION:2.0
PRODID:-//Cincinnati Dental Society - ECPv6.15.20//NONSGML v1.0//EN
CALSCALE:GREGORIAN
METHOD:PUBLISH
X-WR-CALNAME:Cincinnati Dental Society
X-ORIGINAL-URL:https://cincinnatidental.org
X-WR-CALDESC:Events for Cincinnati Dental Society
REFRESH-INTERVAL;VALUE=DURATION:PT1H
X-Robots-Tag:noindex
X-PUBLISHED-TTL:PT1H
BEGIN:VTIMEZONE
TZID:America/Detroit
BEGIN:DAYLIGHT
TZOFFSETFROM:-0500
TZOFFSETTO:-0400
TZNAME:EDT
DTSTART:20240310T070000
END:DAYLIGHT
BEGIN:STANDARD
TZOFFSETFROM:-0400
TZOFFSETTO:-0500
TZNAME:EST
DTSTART:20241103T060000
END:STANDARD
BEGIN:DAYLIGHT
TZOFFSETFROM:-0500
TZOFFSETTO:-0400
TZNAME:EDT
DTSTART:20250309T070000
END:DAYLIGHT
BEGIN:STANDARD
TZOFFSETFROM:-0400
TZOFFSETTO:-0500
TZNAME:EST
DTSTART:20251102T060000
END:STANDARD
BEGIN:DAYLIGHT
TZOFFSETFROM:-0500
TZOFFSETTO:-0400
TZNAME:EDT
DTSTART:20260308T070000
END:DAYLIGHT
BEGIN:STANDARD
TZOFFSETFROM:-0400
TZOFFSETTO:-0500
TZNAME:EST
DTSTART:20261101T060000
END:STANDARD
END:VTIMEZONE
BEGIN:VEVENT
DTSTART;TZID=America/Detroit:20250117T183000
DTEND;TZID=America/Detroit:20250117T223000
DTSTAMP:20260422T182428
CREATED:20241107T185115Z
LAST-MODIFIED:20241223T211518Z
UID:8085-1737138600-1737153000@cincinnatidental.org
SUMMARY:CDS’s New Year’s Celebration and Awards Night at The Transept
DESCRIPTION:Download offline registration\n					\n					\n				\n								\n				\n					\n		\n				\n			\n						\n				\n									\n					\n						\n									Register Online\n					\n					\n				\n								\n				\n					\n		\n					\n		\n				\n						\n					\n			\n						\n				\n									Note: In order to download the offline registration form\, you will need to download and install Adobe Acrobat Reader.   								\n				\n				\n				\n					Registration for this event is closed. Thank you!				\n				\n				\n				\n									Description:This course is designed to help doctors fully meet their annual OSHA and infection control obligations by training the entire dental team\, including clinical and front office staff. Practices that attend together are permitted to list Karen Daw as their OSHA trainer of record for 2026\, strengthening documentation\, and providing clear\, defensible proof of team-wide training. Karen is a nationally recognized safety expert\, speaker\, consultant\, and author trusted by dental societies\, practices and healthcare organizations across the country. She will be arriving fresh off her national speaking tour and wrapping up with the Cincinnati Dental community\, bringing the latest regulatory updates\, inspection trends\, and real-world compliance insights directly to your team. Her sessions blend enterprise risk management principles with practical\, laugh-out-loud delivery – because training people remember is training that actually reduces risk. Why practices attend as a full team: • Enables doctors to meet OSHA and infection control requirements in a complete and defensible manner.• Aligns the entire practice around consistent safety and documentation standards.• Ensures front office staff understand their role during inspections and audits.• Reduces operational risk through proactive\, risk-based training.• Delivers real-world\, engaging education your team will actually retain. These live programs consistently fill quickly with practices that prefer to complete their annual requirements together rather than piecing training together throughout the year. We encourage doctors to register early with their entire team for games\, prizes\, and education event that is truly one-of-a-kind! About the Speaker:Karen Daw\, MBA\, CECM\, CDIPC\, “The OSHA Lady” is an award-winning national speaker\, consultant\, a former Clinic Health and Safety Directory for The Ohio State University College of Dentistry. Affectionately known in the industry for her engaging\, edu-taining style\, Karen helps dental and medical teams transform compliance from a checklist into a culture of safety. She has been featured on 20/20\, The Discovery Channel\, and The Doctors for her outside-the-box thinking and expertise\, and is a trusted resource to practices\, hospital\, and organizations statewide. Through her company\, The OSHA Lady\, she partners with healthcare teams to deliver customized OSHA\, infection control\, and workplace safety training that is practical\, memorable\, and inspection-ready. Schedule:7:45 am – Check-in and Continental Breakfast8:30 to 10:30 am – Program with Karen Daw\, “The OSHA Lady” Fees:$70/person for CDS Member Dentists and Their Dental Team$85/person for Non-CDS Member Dentists and Their Dental Team Continental Breakfast Sliced Seasonal Fresh Fruit\, Coffee Cake Trio (Cinnamon\, Blueberry\, and Chocolate Babka)\, Danish\, and Assorted Muffins with Cream Cheese\, Butter\, Coffee\, Hot Herbal Teas and Chilled Orange Juice. 								\n				\n				\n				\n							\n			\n						\n		\n						\n				\n				\n				\n									The Cincinnati Dental Society is an ADA CERP Recognized Provider approved by the ODA.
URL:https://cincinnatidental.org/event/new-years-celebration-and-awards-night-at-the-transept-2025/
LOCATION:The Transept\, 1205 Elm St\, Cincinnati\, OH\, 45202\, United States
CATEGORIES:CDS Member Events / Programs
ATTACH;FMTTYPE=image/jpeg:https://cincinnatidental.org/wp-content/uploads/2023/11/CDS-New-Year-Celebration-and-Awards-Night-Featured.jpg
ORGANIZER;CN="Cincinnati Dental Society":MAILTO:vicki@cincinnatidental.org
END:VEVENT
END:VCALENDAR