BEGIN:VCALENDAR
VERSION:2.0
PRODID:-//Cincinnati Dental Society - ECPv6.15.20//NONSGML v1.0//EN
CALSCALE:GREGORIAN
METHOD:PUBLISH
X-WR-CALNAME:Cincinnati Dental Society
X-ORIGINAL-URL:https://cincinnatidental.org
X-WR-CALDESC:Events for Cincinnati Dental Society
REFRESH-INTERVAL;VALUE=DURATION:PT1H
X-Robots-Tag:noindex
X-PUBLISHED-TTL:PT1H
BEGIN:VTIMEZONE
TZID:America/Detroit
BEGIN:DAYLIGHT
TZOFFSETFROM:-0500
TZOFFSETTO:-0400
TZNAME:EDT
DTSTART:20240310T070000
END:DAYLIGHT
BEGIN:STANDARD
TZOFFSETFROM:-0400
TZOFFSETTO:-0500
TZNAME:EST
DTSTART:20241103T060000
END:STANDARD
BEGIN:DAYLIGHT
TZOFFSETFROM:-0500
TZOFFSETTO:-0400
TZNAME:EDT
DTSTART:20250309T070000
END:DAYLIGHT
BEGIN:STANDARD
TZOFFSETFROM:-0400
TZOFFSETTO:-0500
TZNAME:EST
DTSTART:20251102T060000
END:STANDARD
BEGIN:DAYLIGHT
TZOFFSETFROM:-0500
TZOFFSETTO:-0400
TZNAME:EDT
DTSTART:20260308T070000
END:DAYLIGHT
BEGIN:STANDARD
TZOFFSETFROM:-0400
TZOFFSETTO:-0500
TZNAME:EST
DTSTART:20261101T060000
END:STANDARD
END:VTIMEZONE
BEGIN:VEVENT
DTSTART;TZID=America/Detroit:20250924T114500
DTEND;TZID=America/Detroit:20250924T160000
DTSTAMP:20260421T215719
CREATED:20250508T173752Z
LAST-MODIFIED:20250912T183058Z
UID:9185-1758714300-1758729600@cincinnatidental.org
SUMMARY:The Cincinnati Dental Society’s Medical Emergency Recognition Course
DESCRIPTION:Download offline registration\n					\n					\n				\n								\n				\n					\n		\n				\n			\n						\n				\n									\n					\n						\n									Register Online\n					\n					\n				\n								\n				\n					\n		\n					\n		\n				\n						\n					\n			\n						\n				\n									Note: In order to download the offline registration form\, you will need to download and install Adobe Acrobat Reader.   								\n				\n				\n				\n									Instructor:\nJimmie L. Harper\, Jr.\, D.D.S. \nDescription:\nThe Medical Emergency Recognition Course covers the identification and prevention of potential medical emergencies and includes the following: \n\nMedical History;\nRecognition of common medical emergency situations;\nOffice emergency protocols;\nBasic airway management;\nPrevention of emergency situations during dental appointments; and\nRecognition of symptoms\, first aid treatment andpossible outcomes for patients who exhibit bleeding injuries\, cardiovascular disease\, insulin reaction\, diabetic coma\, shock\, syncope\, epileptic seizures\, and allergic reactions.\n\nThe course is four hours in length and fulfills the Ohio State Dental Board’s requirement of Dental Hygienists\, Expanded Function Dental Auxiliaries\, and Certified Dental Assistants practicing under general supervision\, as well as the Kentucky Board of Dentistry’s requirements for Dental Hygienists practicing in the State of Kentucky. \nSchedule:\n11:45 am:  Registration12:00 pm to 4:00 pm: Program \nCourse Fee:\n$75 for CDS Members (Includes Associate Members)$90 for ADA Members and $110 for Non-Members \nCE Credits: (4) Hours 								\n				\n				\n				\n							\n			\n						\n		\n						\n				\n				\n				\n									The Cincinnati Dental Society is an ADA CERP Recognized Provider approved by the ODA.
URL:https://cincinnatidental.org/event/the-cincinnati-dental-societys-medical-emergency-recognition-course-2025/
LOCATION:CDS’s Executive Office Conference Room\, 9200 Montgomery Rd 20 a\, Cincinnati\, OH\, 45242\, United States
CATEGORIES:Dental Staff CE Courses
ATTACH;FMTTYPE=image/png:https://cincinnatidental.org/wp-content/uploads/2025/05/Emergency-Medical-Logo.png
ORGANIZER;CN="Cincinnati Dental Society":MAILTO:vicki@cincinnatidental.org
END:VEVENT
END:VCALENDAR