BEGIN:VCALENDAR
VERSION:2.0
PRODID:-//Cincinnati Dental Society - ECPv6.15.20//NONSGML v1.0//EN
CALSCALE:GREGORIAN
METHOD:PUBLISH
X-WR-CALNAME:Cincinnati Dental Society
X-ORIGINAL-URL:https://cincinnatidental.org
X-WR-CALDESC:Events for Cincinnati Dental Society
REFRESH-INTERVAL;VALUE=DURATION:PT1H
X-Robots-Tag:noindex
X-PUBLISHED-TTL:PT1H
BEGIN:VTIMEZONE
TZID:America/Detroit
BEGIN:DAYLIGHT
TZOFFSETFROM:-0500
TZOFFSETTO:-0400
TZNAME:EDT
DTSTART:20220313T070000
END:DAYLIGHT
BEGIN:STANDARD
TZOFFSETFROM:-0400
TZOFFSETTO:-0500
TZNAME:EST
DTSTART:20221106T060000
END:STANDARD
BEGIN:DAYLIGHT
TZOFFSETFROM:-0500
TZOFFSETTO:-0400
TZNAME:EDT
DTSTART:20230312T070000
END:DAYLIGHT
BEGIN:STANDARD
TZOFFSETFROM:-0400
TZOFFSETTO:-0500
TZNAME:EST
DTSTART:20231105T060000
END:STANDARD
BEGIN:DAYLIGHT
TZOFFSETFROM:-0500
TZOFFSETTO:-0400
TZNAME:EDT
DTSTART:20240310T070000
END:DAYLIGHT
BEGIN:STANDARD
TZOFFSETFROM:-0400
TZOFFSETTO:-0500
TZNAME:EST
DTSTART:20241103T060000
END:STANDARD
END:VTIMEZONE
BEGIN:VEVENT
DTSTART;VALUE=DATE:20231103
DTEND;VALUE=DATE:20231104
DTSTAMP:20260425T091339
CREATED:20231130T200941Z
LAST-MODIFIED:20231130T200941Z
UID:5561-1698969600-1699055999@cincinnatidental.org
SUMMARY:Regulatory Compliance Best Practices
DESCRIPTION:Purchase registration online\n					\n					\n				\n								\n				\n					\n		\n				\n			\n						\n				\n									\n					\n						\n									Download offline registration\n					\n					\n				\n								\n				\n					\n		\n					\n		\n				\n						\n					\n			\n						\n				\n									Note: In order to download the offline registration form\, you will need to download and install Adobe Acrobat Reader.   								\n				\n				\n				\n					Registration for this event is closed. Thank you!				\n				\n				\n				\n									Description:Every dental office would like assurance that it is compliant with all the laws and regulations governing the practice of dentistry. Becoming and staying complaint\, however\, can be an arduous and confusing process. This seminar will provide attendees with practical information and guidance to help them meet their regulatory obligations including the latest state and federal regulations affecting the practice of dentistry\, common areas of non-compliance\, and required annual training for OSHA. Learning Objectives:Understand current regulatory issues impacting Ohio dental practices.Learn action steps to practically address regulatory compliance issues.Meet the annual training requirement of the OSHA Bloodborne Pathogens Standard.Speaker: Christopher A. MooreChristopher A. Moore\, ODA Director of Dental Services. Chris Moore currently serves as director of dental services for the Ohio Dental Association. He has served at the ODA for 33 years and currently administers the association’s third-party payer\, peer review\, dental practice\, and regulatory compliance programs. Chris received a Bachelor of Arts degree from Case Western Reserve University and a Master of Arts degree from Kent State University. Schedule:8:00 am: Registration & Continental Breakfast 8:30 am: Program by Christopher A. Moore FEES: $60/Person for CDS Member and their Staff * * $95 for ADA Member$120 for Non-Member CE: Two (2) CE Credits 								\n				\n				\n				\n							\n			\n						\n		\n						\n				\n				\n				\n									The Cincinnati Dental Society is an ADA CERP Recognized Provider approved by the ODA.
URL:https://cincinnatidental.org/event/regulatory-compliance-best-practices-2023/
LOCATION:Sharonville Convention Center\, 11355 Chester Rd\, Cincinnati\, OH\, 45246\, United States
CATEGORIES:CDS Member Events / Programs
ATTACH;FMTTYPE=image/jpeg:https://cincinnatidental.org/wp-content/uploads/2021/08/featured-events.jpg
ORGANIZER;CN="Cincinnati Dental Society":MAILTO:vicki@cincinnatidental.org
END:VEVENT
END:VCALENDAR