BEGIN:VCALENDAR
VERSION:2.0
PRODID:-//Cincinnati Dental Society - ECPv6.15.20//NONSGML v1.0//EN
CALSCALE:GREGORIAN
METHOD:PUBLISH
X-WR-CALNAME:Cincinnati Dental Society
X-ORIGINAL-URL:https://cincinnatidental.org
X-WR-CALDESC:Events for Cincinnati Dental Society
REFRESH-INTERVAL;VALUE=DURATION:PT1H
X-Robots-Tag:noindex
X-PUBLISHED-TTL:PT1H
BEGIN:VTIMEZONE
TZID:America/Detroit
BEGIN:DAYLIGHT
TZOFFSETFROM:-0500
TZOFFSETTO:-0400
TZNAME:EDT
DTSTART:20230312T070000
END:DAYLIGHT
BEGIN:STANDARD
TZOFFSETFROM:-0400
TZOFFSETTO:-0500
TZNAME:EST
DTSTART:20231105T060000
END:STANDARD
BEGIN:DAYLIGHT
TZOFFSETFROM:-0500
TZOFFSETTO:-0400
TZNAME:EDT
DTSTART:20240310T070000
END:DAYLIGHT
BEGIN:STANDARD
TZOFFSETFROM:-0400
TZOFFSETTO:-0500
TZNAME:EST
DTSTART:20241103T060000
END:STANDARD
BEGIN:DAYLIGHT
TZOFFSETFROM:-0500
TZOFFSETTO:-0400
TZNAME:EDT
DTSTART:20250309T070000
END:DAYLIGHT
BEGIN:STANDARD
TZOFFSETFROM:-0400
TZOFFSETTO:-0500
TZNAME:EST
DTSTART:20251102T060000
END:STANDARD
END:VTIMEZONE
BEGIN:VEVENT
DTSTART;TZID=America/Detroit:20240311T181500
DTEND;TZID=America/Detroit:20240311T203000
DTSTAMP:20260423T091537
CREATED:20240119T021217Z
LAST-MODIFIED:20240120T191259Z
UID:7037-1710180900-1710189000@cincinnatidental.org
SUMMARY:University of Cincinnati Medical Center's AEGD 2023-2024 Resident’s Table Clinics
DESCRIPTION:Purchase registration online\n					\n					\n				\n								\n				\n					\n		\n				\n			\n						\n				\n									\n					\n						\n									Download offline registration\n					\n					\n				\n								\n				\n					\n		\n					\n		\n				\n						\n					\n			\n						\n				\n									Note: In order to download the offline registration form\, you will need to download and install Adobe Acrobat Reader.   								\n				\n				\n				\n									The event is sponsored in part by Cincinnati Insurance Companies.Fueled Collective\, 3825 Edwards Road\, Second Floor“Sealant Methodology: A Comparison of Resin and Glass Ionomer” – Dr. Lauren Ames“The Effect of Post Placement on Prognosis of Endodontically Treated Teeth” – Dr. Christina Chen“Deal or No Deal: Cost Efficiency and Accuracy of Same Day Crowns” – Dr. Michelle Moure“Restoration of Endodontically Treated Teeth with Fiber vs. Metal Posts” – Dr. Natalee RichardsonSchedule:6:15 pm: Social 7:00 to 8:30 pm: Presentations Cash bar available until 7:30 pm Fee/Guest: Complimentary for CDS Members! Non-Members/Guest/Staff of CDS Member\, $35 each CE: 1.5 CE Credits 								\n				\n				\n				\n							\n			\n						\n		\n						\n				\n				\n				\n									The Cincinnati Dental Society is an ADA CERP Recognized Provider approved by the ODA.
URL:https://cincinnatidental.org/event/march-2024-table-clinics/
LOCATION:Fueled Collective\, 3825 Edwards Rd.\, Suite 103\, Cincinnati\, OH\, 45209\, United States
CATEGORIES:CDS Member Events / Programs
ATTACH;FMTTYPE=image/jpeg:https://cincinnatidental.org/wp-content/uploads/2021/08/featured-events.jpg
ORGANIZER;CN="Cincinnati Dental Society":MAILTO:vicki@cincinnatidental.org
END:VEVENT
END:VCALENDAR