BEGIN:VCALENDAR
VERSION:2.0
PRODID:-//Cincinnati Dental Society - ECPv6.15.20//NONSGML v1.0//EN
CALSCALE:GREGORIAN
METHOD:PUBLISH
X-WR-CALNAME:Cincinnati Dental Society
X-ORIGINAL-URL:https://cincinnatidental.org
X-WR-CALDESC:Events for Cincinnati Dental Society
REFRESH-INTERVAL;VALUE=DURATION:PT1H
X-Robots-Tag:noindex
X-PUBLISHED-TTL:PT1H
BEGIN:VTIMEZONE
TZID:America/Detroit
BEGIN:DAYLIGHT
TZOFFSETFROM:-0500
TZOFFSETTO:-0400
TZNAME:EDT
DTSTART:20220313T070000
END:DAYLIGHT
BEGIN:STANDARD
TZOFFSETFROM:-0400
TZOFFSETTO:-0500
TZNAME:EST
DTSTART:20221106T060000
END:STANDARD
BEGIN:DAYLIGHT
TZOFFSETFROM:-0500
TZOFFSETTO:-0400
TZNAME:EDT
DTSTART:20230312T070000
END:DAYLIGHT
BEGIN:STANDARD
TZOFFSETFROM:-0400
TZOFFSETTO:-0500
TZNAME:EST
DTSTART:20231105T060000
END:STANDARD
BEGIN:DAYLIGHT
TZOFFSETFROM:-0500
TZOFFSETTO:-0400
TZNAME:EDT
DTSTART:20240310T070000
END:DAYLIGHT
BEGIN:STANDARD
TZOFFSETFROM:-0400
TZOFFSETTO:-0500
TZNAME:EST
DTSTART:20241103T060000
END:STANDARD
END:VTIMEZONE
BEGIN:VEVENT
DTSTART;VALUE=DATE:20230505
DTEND;VALUE=DATE:20230506
DTSTAMP:20260425T184031
CREATED:20231130T200943Z
LAST-MODIFIED:20231130T200943Z
UID:5547-1683244800-1683331199@cincinnatidental.org
SUMMARY:“Jack W. Gottschalk\, D.D.S. Notable Service Award” Celebration
DESCRIPTION:Download offline registration\n					\n					\n				\n								\n				\n					\n		\n				\n			\n							\n		\n					\n		\n				\n						\n					\n			\n						\n				\n									Note: In order to download the offline flyer\, you will need to download and install Adobe Acrobat Reader. 								\n				\n				\n				\n							\n			\n						\n		\n						\n				\n				\n				\n					2023 Recipient: Greater ‘C’ Dental Lab				\n				\n				\n				\n					May 5\, 2023 at Kenwood Country Club				\n				\n				\n				\n									Cocktails: 6:00 pm\, Dinner at 7:00 pm\, Program at 8:00 pmCost: $55/person. Reserved tables of 10 available at $550 each.Includes: One Drink Ticket\, Hors d’oeuvres\, Italian Dinner with Wine. All proceeds benefit The CDS’s Oral Health Foundation\, a 501(c)(3) Corporation 								\n				\n				\n				\n									 Master of Ceremony ** Victoria J. Nixon\, MSACincinnati Dental Society and CDS’s Oral HealthFoundation Executive Director & First Award Recipient in 201
URL:https://cincinnatidental.org/event/jack-w-gottschalk-d-d-s-notable-service-award-celebration/
LOCATION:Kenwood Country Club\, 6501 Kenwood Rd\, Cincinnati\, OH\, 45243\, United States
CATEGORIES:CDS Member Events / Programs
ATTACH;FMTTYPE=image/jpeg:https://cincinnatidental.org/wp-content/uploads/2022/12/Save-the-Date-Jack-W.-Gottschalk-D.D.S.jpg
ORGANIZER;CN="Cincinnati Dental Society":MAILTO:vicki@cincinnatidental.org
END:VEVENT
END:VCALENDAR