BEGIN:VCALENDAR
VERSION:2.0
PRODID:-//Cincinnati Dental Society - ECPv6.15.20//NONSGML v1.0//EN
CALSCALE:GREGORIAN
METHOD:PUBLISH
X-WR-CALNAME:Cincinnati Dental Society
X-ORIGINAL-URL:https://cincinnatidental.org
X-WR-CALDESC:Events for Cincinnati Dental Society
REFRESH-INTERVAL;VALUE=DURATION:PT1H
X-Robots-Tag:noindex
X-PUBLISHED-TTL:PT1H
BEGIN:VTIMEZONE
TZID:America/Detroit
BEGIN:DAYLIGHT
TZOFFSETFROM:-0500
TZOFFSETTO:-0400
TZNAME:EDT
DTSTART:20220313T070000
END:DAYLIGHT
BEGIN:STANDARD
TZOFFSETFROM:-0400
TZOFFSETTO:-0500
TZNAME:EST
DTSTART:20221106T060000
END:STANDARD
BEGIN:DAYLIGHT
TZOFFSETFROM:-0500
TZOFFSETTO:-0400
TZNAME:EDT
DTSTART:20230312T070000
END:DAYLIGHT
BEGIN:STANDARD
TZOFFSETFROM:-0400
TZOFFSETTO:-0500
TZNAME:EST
DTSTART:20231105T060000
END:STANDARD
BEGIN:DAYLIGHT
TZOFFSETFROM:-0500
TZOFFSETTO:-0400
TZNAME:EDT
DTSTART:20240310T070000
END:DAYLIGHT
BEGIN:STANDARD
TZOFFSETFROM:-0400
TZOFFSETTO:-0500
TZNAME:EST
DTSTART:20241103T060000
END:STANDARD
END:VTIMEZONE
BEGIN:VEVENT
DTSTART;TZID=America/Detroit:20230216T183000
DTEND;TZID=America/Detroit:20230216T203000
DTSTAMP:20260425T225713
CREATED:20230126T151942Z
LAST-MODIFIED:20231130T200945Z
UID:5708-1676572200-1676579400@cincinnatidental.org
SUMMARY:February “CDS Social”
DESCRIPTION:Download flyer\n					\n					\n				\n								\n				\n					\n		\n				\n			\n							\n		\n					\n		\n				\n						\n					\n			\n						\n				\n									Note: In order to download the offline flyer\, you will need to download and install Adobe Acrobat Reader.   								\n				\n				\n				\n									Here’s a chance to meet your colleagues in a casual atmosphere; not at a meeting or continuing education program. Just show up\, grab a drink\, and mingle! Our next “CDS Social” will be held at MadTree Brewing on Thursday\, February 16\, 2023 from 6:30 to 8:30 pm. Want to attend\, but only have an hour to spare.  No problem. No need to stay for the entire time. There are no rules! This event is open to all members. However\, we encourage our new dentists to take advantage of this opportunity to meet other dentists and specialists in your area! Everyone will enjoy a beverage on the Society!Welcome By: Dr. Andy Dorr and Dr. Chris Heck Date: Thursday\, February 16\, 2023 Location: MadTree Brewing\, 3301 Madison Road\, Cincinnati\, 45209 Time: 6:30 pm to 8:30 pm RSVP: Not necessary for this event!  								\n				\n				\n				\n							\n			\n						\n		\n						\n				\n				\n				\n									Questions about this event should be directed to Vicki Nixon at vicki@cincinnatidental.org. See you on the 16th!
URL:https://cincinnatidental.org/event/february-cds-social-2023/
LOCATION:MadTree Brewing\, 3301 Madison Rd\, Cincinnati\, OH\, 45209\, United States
CATEGORIES:CDS Member Events / Programs
ATTACH;FMTTYPE=image/jpeg:https://cincinnatidental.org/wp-content/uploads/2023/01/Mad-Tree-Brewing.jpg
ORGANIZER;CN="Cincinnati Dental Society":MAILTO:vicki@cincinnatidental.org
END:VEVENT
END:VCALENDAR