BEGIN:VCALENDAR
VERSION:2.0
PRODID:-//Cincinnati Dental Society - ECPv6.15.20//NONSGML v1.0//EN
CALSCALE:GREGORIAN
METHOD:PUBLISH
X-WR-CALNAME:Cincinnati Dental Society
X-ORIGINAL-URL:https://cincinnatidental.org
X-WR-CALDESC:Events for Cincinnati Dental Society
REFRESH-INTERVAL;VALUE=DURATION:PT1H
X-Robots-Tag:noindex
X-PUBLISHED-TTL:PT1H
BEGIN:VTIMEZONE
TZID:America/Detroit
BEGIN:DAYLIGHT
TZOFFSETFROM:-0500
TZOFFSETTO:-0400
TZNAME:EDT
DTSTART:20240310T070000
END:DAYLIGHT
BEGIN:STANDARD
TZOFFSETFROM:-0400
TZOFFSETTO:-0500
TZNAME:EST
DTSTART:20241103T060000
END:STANDARD
BEGIN:DAYLIGHT
TZOFFSETFROM:-0500
TZOFFSETTO:-0400
TZNAME:EDT
DTSTART:20250309T070000
END:DAYLIGHT
BEGIN:STANDARD
TZOFFSETFROM:-0400
TZOFFSETTO:-0500
TZNAME:EST
DTSTART:20251102T060000
END:STANDARD
BEGIN:DAYLIGHT
TZOFFSETFROM:-0500
TZOFFSETTO:-0400
TZNAME:EDT
DTSTART:20260308T070000
END:DAYLIGHT
BEGIN:STANDARD
TZOFFSETFROM:-0400
TZOFFSETTO:-0500
TZNAME:EST
DTSTART:20261101T060000
END:STANDARD
END:VTIMEZONE
BEGIN:VEVENT
DTSTART;VALUE=DATE:20251011
DTEND;VALUE=DATE:20251012
DTSTAMP:20260421T202050
CREATED:20250804T163154Z
LAST-MODIFIED:20250916T020548Z
UID:9358-1760140800-1760227199@cincinnatidental.org
SUMMARY:Cincinnati Dental Society’s Family Event! TQL Stadium
DESCRIPTION:Deadline to Register: October 3\, 2025				\n				\n				\n				\n					Registration for this event is closed. Thank you!				\n				\n					\n				\n					\n		\n					\n		\n				\n						\n					\n			\n						\n				\n									\n					\n						\n									Register Online\n					\n					\n				\n								\n				\n					\n		\n				\n			\n						\n				\n									\n					\n						\n									Download Flyer\n					\n					\n				\n								\n				\n					\n		\n					\n		\n				\n						\n					\n			\n						\n				\n									Description:We are so excited to host our member family event at the TQL Stadium\, an event for all ages! What to ExpectGuided stadium tours.Visit from FC Cincinnati Mascot\, Gary!Tasty lunch served from 11:15 to 12:30 pm.Convenient free parking next to the stadium.Minimal fee for a ton of fun!Schedule:Entrance for our group will open at 11:00 amLunch served from 11:15 to 12:30 pm\, Includes unlimited beverages for ages under 21\, one drink ticket/person over 21 years of age.Fees:Children under the age of 4 – FreeChildren age 5 to 16 – $15/personAges 17 and above – $25/person								\n				\n				\n				\n							\n			\n						\n		\n						\n				\n				\n				\n									The Cincinnati Dental Society is an ADA CERP Recognized Provider approved by the ODA.
URL:https://cincinnatidental.org/event/cincinnati-dental-societys-family-event-tql-stadium/
LOCATION:TQL Stadium\, 1501 Central Parkway\, Cincinnati\, 45214\, United States
CATEGORIES:CDS Member Events / Programs
ATTACH;FMTTYPE=image/jpeg:https://cincinnatidental.org/wp-content/uploads/2025/08/TQL-Stadium.jpg
ORGANIZER;CN="Cincinnati Dental Society":MAILTO:vicki@cincinnatidental.org
END:VEVENT
END:VCALENDAR