BEGIN:VCALENDAR
VERSION:2.0
PRODID:-//Cincinnati Dental Society - ECPv6.15.20//NONSGML v1.0//EN
CALSCALE:GREGORIAN
METHOD:PUBLISH
X-WR-CALNAME:Cincinnati Dental Society
X-ORIGINAL-URL:https://cincinnatidental.org
X-WR-CALDESC:Events for Cincinnati Dental Society
REFRESH-INTERVAL;VALUE=DURATION:PT1H
X-Robots-Tag:noindex
X-PUBLISHED-TTL:PT1H
BEGIN:VTIMEZONE
TZID:America/Detroit
BEGIN:DAYLIGHT
TZOFFSETFROM:-0500
TZOFFSETTO:-0400
TZNAME:EDT
DTSTART:20250309T070000
END:DAYLIGHT
BEGIN:STANDARD
TZOFFSETFROM:-0400
TZOFFSETTO:-0500
TZNAME:EST
DTSTART:20251102T060000
END:STANDARD
BEGIN:DAYLIGHT
TZOFFSETFROM:-0500
TZOFFSETTO:-0400
TZNAME:EDT
DTSTART:20260308T070000
END:DAYLIGHT
BEGIN:STANDARD
TZOFFSETFROM:-0400
TZOFFSETTO:-0500
TZNAME:EST
DTSTART:20261101T060000
END:STANDARD
BEGIN:DAYLIGHT
TZOFFSETFROM:-0500
TZOFFSETTO:-0400
TZNAME:EDT
DTSTART:20270314T070000
END:DAYLIGHT
BEGIN:STANDARD
TZOFFSETFROM:-0400
TZOFFSETTO:-0500
TZNAME:EST
DTSTART:20271107T060000
END:STANDARD
END:VTIMEZONE
BEGIN:VEVENT
DTSTART;TZID=America/Detroit:20260116T183000
DTEND;TZID=America/Detroit:20260116T213000
DTSTAMP:20260421T164140
CREATED:20251217T222902Z
LAST-MODIFIED:20260106T200145Z
UID:9760-1768588200-1768599000@cincinnatidental.org
SUMMARY:Cincinnati Dental Society’s 2026 New Year’s Celebration & Awards Night
DESCRIPTION:Pricing & RSVP Information\n					\n					\n				\n								\n				\n					\n		\n				\n			\n						\n				\n									\n					\n						\n									Pay & RSVP Online\n					\n					\n				\n								\n				\n					\n		\n					\n		\n				\n						\n					\n			\n						\n				\n									Note: In order to download the offline flyer\, you will need to download and install Adobe Acrobat Reader.   								\n				\n				\n				\n									DateFriday\, January 16\, 2026 LAST OPPORTUNITY TO REGISTER FOR THIS EVENT IS FRIDAY\, JANUARY 9\, 2026. LocationThe Sabin Auditorium at Cincinnati Children’s Medical Center3333 Burnet Avenue\, Cincinnati\, OH 45229C Entrance\, Room D1.23Paid Valet Parking Schedule6:30pm: Social Hour and Passed Hors d’oeuvres7:30pm: Dinner Served8:30pm: Program with Special Presentation Upscale Hors d’oeuvres\, Salad\, Dinner\, Dessert\, and Complimentary Drink – $65/person. Meal Options Option 1 – Braised Short Rib with Merlot Sauce\, Vegetable Medley and Pesto Mashed Potatoes.Option 2 – Chicken Piccata with Capers\, Vegetable Medley and Pesto Mashed Potatoes.Option 3 – Vegetarian\, Chickepea Stir Fry with Lime & Cilantro Rice All meal options are served with Salad and Dinner Rolls (Romaine\, Dried Cranberries\, Almonds\, Feta Cheese & Cabernet Vinaigrette) 								\n				\n				\n				\n							\n			\n						\n		\n						\n				\n				\n				\n									Questions about this event should be directed to Vicki Nixon at vicki@cincinnatidental.org.
URL:https://cincinnatidental.org/event/cincinnati-dental-societys-2026-new-years-celebration-awards-night/
LOCATION:Cincinnati Children’s Hospital Sabin Auditorium\, Auditorium - Location D\, 3333 Burnet Ave\, Albert Sabin Way\, Cincinnati\, 45229\, United States
CATEGORIES:CDS Member Events / Programs
ATTACH;FMTTYPE=image/jpeg:https://cincinnatidental.org/wp-content/uploads/2023/11/CDS-New-Year-Celebration-and-Awards-Night-Featured.jpg
ORGANIZER;CN="Cincinnati Dental Society":MAILTO:vicki@cincinnatidental.org
END:VEVENT
END:VCALENDAR