BEGIN:VCALENDAR
VERSION:2.0
PRODID:-//Cincinnati Dental Society - ECPv6.15.20//NONSGML v1.0//EN
CALSCALE:GREGORIAN
METHOD:PUBLISH
X-WR-CALNAME:Cincinnati Dental Society
X-ORIGINAL-URL:https://cincinnatidental.org
X-WR-CALDESC:Events for Cincinnati Dental Society
REFRESH-INTERVAL;VALUE=DURATION:PT1H
X-Robots-Tag:noindex
X-PUBLISHED-TTL:PT1H
BEGIN:VTIMEZONE
TZID:America/Detroit
BEGIN:DAYLIGHT
TZOFFSETFROM:-0500
TZOFFSETTO:-0400
TZNAME:EDT
DTSTART:20220313T070000
END:DAYLIGHT
BEGIN:STANDARD
TZOFFSETFROM:-0400
TZOFFSETTO:-0500
TZNAME:EST
DTSTART:20221106T060000
END:STANDARD
BEGIN:DAYLIGHT
TZOFFSETFROM:-0500
TZOFFSETTO:-0400
TZNAME:EDT
DTSTART:20230312T070000
END:DAYLIGHT
BEGIN:STANDARD
TZOFFSETFROM:-0400
TZOFFSETTO:-0500
TZNAME:EST
DTSTART:20231105T060000
END:STANDARD
BEGIN:DAYLIGHT
TZOFFSETFROM:-0500
TZOFFSETTO:-0400
TZNAME:EDT
DTSTART:20240310T070000
END:DAYLIGHT
BEGIN:STANDARD
TZOFFSETFROM:-0400
TZOFFSETTO:-0500
TZNAME:EST
DTSTART:20241103T060000
END:STANDARD
END:VTIMEZONE
BEGIN:VEVENT
DTSTART;VALUE=DATE:20231009
DTEND;VALUE=DATE:20231010
DTSTAMP:20260425T112301
CREATED:20231130T200942Z
LAST-MODIFIED:20231130T200942Z
UID:6209-1696809600-1696895999@cincinnatidental.org
SUMMARY:October CDS Member Event
DESCRIPTION:Purchase registration online\n					\n					\n				\n								\n				\n					\n		\n				\n			\n						\n				\n									\n					\n						\n									Download offline registration\n					\n					\n				\n								\n				\n					\n		\n					\n		\n				\n						\n					\n			\n						\n				\n									Note: In order to download the offline registration form\, you will need to download and install Adobe Acrobat Reader.   								\n				\n				\n				\n									Sponsored in part by: Dental Network Group\nFueled Collective\, 3825 Edwards Road\, Second Floor\nThe Dental Network Group is a resource network of top professional experts who specialize in the business side of dentistry. \nDescription:\nWith nearly 20 years of experience supporting dentists across the business side of dentistry\, their team has a wealth of information to share. Chances are\, if you have the question\, they will have the answer! Based on their experience\, we also know that a big lecture may not offer you the ability to get answers to your own\, personal questions. The Dental Network Group experts will be spread out through small breakout rooms\, so you will have the opportunity to meet each of them as part of a small group to ask whatever questions may be on your mind. \nWhat types of information can you expect to learn from this event? \n\nI’m ready to purchase/sell my practice (or expand my practice) – what now?\nWhere can I find practices for sale or who can help me sell my practice?\nHow do I know what my practice is really worth?\nHow can I improve my tax liabilities?\nHow much money do I really need for retirement?\nWhat kind of insurance (and how much!) do I need for myself and my practice?\nWhy legal review of a contract and/or non-compete is necessary.\nWhat impact may real estate location have on my practice?\nHow can innovative office design impact patient perception and retention?\nWhere can I find the best candidates for my practice?\nWhat benefits will help with attracting and retaining the best employees?\nWho can I work with to find a position within a dental practice?\nWhy HR\, payroll\, and technology are critical to a successful and compliant practice.\nAnd\, maybe most importantly\, real-life examples of why surrounding yourself with industry-leading experts can add value to your business and your life.\n\nSchedule:\n6:15 pm: Appetizers Served\, One Drink Ticket/Person \n7:00 to 8:30 pm: Breakout Sessions \nFee/Guest: Complimentary for CDS Members! Non-Members/Guest/Staff of CDS Member\, $35 each \nCE: 1.5 CE Credits 								\n				\n				\n				\n							\n			\n						\n		\n						\n				\n				\n				\n									The Cincinnati Dental Society is an ADA CERP Recognized Provider approved by the ODA.
URL:https://cincinnatidental.org/event/cds-member-event-100923/
LOCATION:Fueled Collective\, 3825 Edwards Rd.\, Suite 103\, Cincinnati\, OH\, 45209\, United States
CATEGORIES:CDS Member Events / Programs
ATTACH;FMTTYPE=image/jpeg:https://cincinnatidental.org/wp-content/uploads/2021/08/featured-events.jpg
ORGANIZER;CN="Cincinnati Dental Society":MAILTO:vicki@cincinnatidental.org
END:VEVENT
END:VCALENDAR