BEGIN:VCALENDAR
VERSION:2.0
PRODID:-//Cincinnati Dental Society - ECPv6.15.20//NONSGML v1.0//EN
CALSCALE:GREGORIAN
METHOD:PUBLISH
X-WR-CALNAME:Cincinnati Dental Society
X-ORIGINAL-URL:https://cincinnatidental.org
X-WR-CALDESC:Events for Cincinnati Dental Society
REFRESH-INTERVAL;VALUE=DURATION:PT1H
X-Robots-Tag:noindex
X-PUBLISHED-TTL:PT1H
BEGIN:VTIMEZONE
TZID:America/Detroit
BEGIN:DAYLIGHT
TZOFFSETFROM:-0500
TZOFFSETTO:-0400
TZNAME:EDT
DTSTART:20230312T070000
END:DAYLIGHT
BEGIN:STANDARD
TZOFFSETFROM:-0400
TZOFFSETTO:-0500
TZNAME:EST
DTSTART:20231105T060000
END:STANDARD
BEGIN:DAYLIGHT
TZOFFSETFROM:-0500
TZOFFSETTO:-0400
TZNAME:EDT
DTSTART:20240310T070000
END:DAYLIGHT
BEGIN:STANDARD
TZOFFSETFROM:-0400
TZOFFSETTO:-0500
TZNAME:EST
DTSTART:20241103T060000
END:STANDARD
BEGIN:DAYLIGHT
TZOFFSETFROM:-0500
TZOFFSETTO:-0400
TZNAME:EDT
DTSTART:20250309T070000
END:DAYLIGHT
BEGIN:STANDARD
TZOFFSETFROM:-0400
TZOFFSETTO:-0500
TZNAME:EST
DTSTART:20251102T060000
END:STANDARD
END:VTIMEZONE
BEGIN:VEVENT
DTSTART;TZID=America/Detroit:20241004T073000
DTEND;TZID=America/Detroit:20241004T100000
DTSTAMP:20260422T141844
CREATED:20240207T213356Z
LAST-MODIFIED:20241003T205220Z
UID:7100-1728027000-1728036000@cincinnatidental.org
SUMMARY:2-Hour Radiography Update Live Session (Second Option)
DESCRIPTION:Download offline registration\n					\n					\n				\n								\n				\n					\n		\n				\n			\n							\n		\n					\n		\n				\n						\n					\n			\n						\n				\n									Note: In order to download the offline registration form\, you will need to download and install Adobe Acrobat Reader.   								\n				\n				\n				\n									Registration for this 2-Hour Radiology Update is closed. Thank you. 								\n				\n				\n				\n									Instructor:Sheri Sauer\, EFDA\, CDA\, CDIPC\, RDA Description:This 2-hour live lecture reviews the essential concepts of dental radiology and dives into changes and new technology for dental professionals. Review highlights include: X-ray fundamentals-review on Panoramic\, CBCT\, Intra-oral x-rays and CameraPanoramic positioning recommendation updateState Department of Health updates.Radiographic Artificial Intelligence and A.I. charting.How to use x-rays and intra-oral pictures to enhance your treatment planning consultation with patients.Discuss liquid lens technologyUpdates on digital radiology and hand-held x-ray machinesSchedule:7:30 am: Registration8:00 pm: Program Light refreshments will be provided Course Fee: $70/Person for Staff of CDS Members (Includes Associate Members)$95/Person for Non-Members. 								\n				\n				\n				\n							\n			\n						\n		\n						\n				\n				\n				\n									The Cincinnati Dental Society is an ADA CERP Recognized Provider approved by the ODA.
URL:https://cincinnatidental.org/event/2-hour-radiography-update-live-session-second-option-2024/
LOCATION:Delta Hotels by Marriott\, 11320 Chester Rd\, Cincinnati\, OH\, 45246\, United States
CATEGORIES:Dental Staff CE Courses
ATTACH;FMTTYPE=image/jpeg:https://cincinnatidental.org/wp-content/uploads/2021/08/featured-events.jpg
ORGANIZER;CN="Cincinnati Dental Society":MAILTO:vicki@cincinnatidental.org
END:VEVENT
END:VCALENDAR